BEGIN:VCALENDAR
VERSION:2.0
PRODID:-//wp-events-plugin.com//6.6.3//EN
BEGIN:VEVENT
UID:2@hackdevnet.com
DTSTART:20250212T150000Z
DTEND:20250212T153000Z
DTSTAMP:20250207T222200Z
URL:https://hackdevnet.com/events/nuevos-modelos-de-tarjetas-nvidia/
SUMMARY:Nuevos modelos de tarjetas Nvidia
DESCRIPTION:Ha llegado a las nuevas tarjetas de la serie 5000 de nvidia con
  nuevos modelos y hardware que promete mucho.
END:VEVENT
BEGIN:VEVENT
UID:1@hackdevnet.com
DTSTART:20250228T150000Z
DTEND:20250228T153000Z
DTSTAMP:20250207T221412Z
URL:https://hackdevnet.com/events/chatgpt-vs-deepseek/
SUMMARY:ChatGPT vs DeepSeek
DESCRIPTION:Dos inteligencia artificiales\, con diferentes caminos. Cuál e
 s mejor? Aquí lo sabrás.
END:VEVENT
END:VCALENDAR